BEGIN:VCALENDAR
VERSION:2.0
PRODID:-//Azania Children - ECPv6.8.3//NONSGML v1.0//EN
CALSCALE:GREGORIAN
METHOD:PUBLISH
X-ORIGINAL-URL:https://azaniachildren.org
X-WR-CALDESC:Events for Azania Children
REFRESH-INTERVAL;VALUE=DURATION:PT1H
X-Robots-Tag:noindex
X-PUBLISHED-TTL:PT1H
BEGIN:VTIMEZONE
TZID:UTC
BEGIN:STANDARD
TZOFFSETFROM:+0000
TZOFFSETTO:+0000
TZNAME:UTC
DTSTART:20230101T000000
END:STANDARD
END:VTIMEZONE
BEGIN:VEVENT
DTSTART;TZID=UTC:20230709T103000
DTEND;TZID=UTC:20230709T113000
DTSTAMP:20260425T112835
CREATED:20230703T194858Z
LAST-MODIFIED:20230703T194858Z
UID:5801-1688898600-1688902200@azaniachildren.org
SUMMARY:The Edge Church
DESCRIPTION:With scintillating drumbeats\, engaging dance moves\, and exciting audio-visual effects; Live at The Edge Church\, you will witness inspirational true-life stories of triumph over tragedy. Invite a Friend.
URL:https://azaniachildren.org/event/the-edge-church/
LOCATION:The Edge Church\, 3220 Platt Springs Rd\, West Columbia\, SC\, 29170\, United States
END:VEVENT
END:VCALENDAR