BEGIN:VCALENDAR
VERSION:2.0
PRODID:-//Azania Children - ECPv6.8.3//NONSGML v1.0//EN
CALSCALE:GREGORIAN
METHOD:PUBLISH
X-WR-CALNAME:Azania Children
X-ORIGINAL-URL:https://azaniachildren.org
X-WR-CALDESC:Events for Azania Children
REFRESH-INTERVAL;VALUE=DURATION:PT1H
X-Robots-Tag:noindex
X-PUBLISHED-TTL:PT1H
BEGIN:VTIMEZONE
TZID:UTC
BEGIN:STANDARD
TZOFFSETFROM:+0000
TZOFFSETTO:+0000
TZNAME:UTC
DTSTART:20230101T000000
END:STANDARD
END:VTIMEZONE
BEGIN:VEVENT
DTSTART;TZID=UTC:20230618T150000
DTEND;TZID=UTC:20230618T160000
DTSTAMP:20260425T101547
CREATED:20230411T204105Z
LAST-MODIFIED:20230609T002824Z
UID:5648-1687100400-1687104000@azaniachildren.org
SUMMARY:CENTERPOINT CHURCH AT REMOUNT
DESCRIPTION:With scintillating drumbeats\, engaging dance moves\, and exciting audio-visual effects; Center point Church at Remount\, you will witness inspirational true-life stories of triumph over tragedy. Invite a Friend
URL:https://azaniachildren.org/event/centerpoint-church-at-remount/
LOCATION:Centerpoint Church At Remount\, 1520 Remount Road\, North Charleston\, SC\, 29406\, United States
END:VEVENT
BEGIN:VEVENT
DTSTART;TZID=UTC:20230604T150000
DTEND;TZID=UTC:20230604T160000
DTSTAMP:20260425T101547
CREATED:20230428T170022Z
LAST-MODIFIED:20230528T203939Z
UID:5694-1685890800-1685894400@azaniachildren.org
SUMMARY:DESTINY WORSHIP CHURCH
DESCRIPTION:With scintillating drumbeats\, engaging dance moves\, and exciting audio-visual effects; Live at Destiny Worship Church\, you will witness inspirational true-life stories of triumph over tragedy. Invite a Friend.
URL:https://azaniachildren.org/event/destiny-worship-church/
LOCATION:Destiny Worship Center\, 3625 Azalea Dr. North\, Charleston\, 29405
END:VEVENT
BEGIN:VEVENT
DTSTART;TZID=UTC:20230521T180000
DTEND;TZID=UTC:20230521T190000
DTSTAMP:20260425T101547
CREATED:20230419T182324Z
LAST-MODIFIED:20230419T182324Z
UID:5687-1684692000-1684695600@azaniachildren.org
SUMMARY:JONES AVENUE BAPTIST CHURCH
DESCRIPTION:With scintillating drumbeats\, engaging dance moves\, and exciting audio-visual effects; Live at Jones Avenue Church\, you will witness inspirational true-life stories of triumph over tragedy. Invite a Friend and come experience the beat of Africa.
URL:https://azaniachildren.org/event/jone-avenue-baptist-church/
LOCATION:Jones Avenue Baptist Church\, 614 Ross Ave\, Easley\, SC\, 29640\, United States
ORGANIZER;CN="Azania Children's Choir":MAILTO:choir@azaniachildren.org
END:VEVENT
BEGIN:VEVENT
DTSTART;TZID=UTC:20230503T180000
DTEND;TZID=UTC:20230503T193000
DTSTAMP:20260425T101547
CREATED:20230212T173300Z
LAST-MODIFIED:20230303T165027Z
UID:5415-1683136800-1683142200@azaniachildren.org
SUMMARY:Highlands Church of Cumberlands
DESCRIPTION:With scintillating drumbeats\, engaging dance moves\, and exciting audio-visual effects; Live at Highlands Church\, you will witness inspirational true-life stories of triumph over tragedy. Invite a Friend
URL:https://azaniachildren.org/event/highlands-church-of-cumberlands/
LOCATION:Highlands Church of the Cumberlands\, 507 Industrial\, Dr. Jamestown\, TN\, 38556\, United States
ORGANIZER;CN="Highlands Church of the Cumberlands":MAILTO:highlandscotc@gmail.com
END:VEVENT
BEGIN:VEVENT
DTSTART;TZID=UTC:20230430T180000
DTEND;TZID=UTC:20230430T190000
DTSTAMP:20260425T101547
CREATED:20230325T202001Z
LAST-MODIFIED:20230325T202001Z
UID:5562-1682877600-1682881200@azaniachildren.org
SUMMARY:KAINOS CHURCH
DESCRIPTION:With scintillating drumbeats\, engaging dance moves\, and exciting audio-visual effects; Live at Kainos  Church\, you will witness inspirational true-life stories of triumph over tragedy. Invite a Friend
URL:https://azaniachildren.org/event/kainos-church/
LOCATION:Kainos Church\, Peachtree Learning Center 402 N Walnut Ave\, Cookeville\, TN\, 38501\, United States
END:VEVENT
BEGIN:VEVENT
DTSTART;TZID=UTC:20230426T180000
DTEND;TZID=UTC:20230426T193000
DTSTAMP:20260425T101547
CREATED:20220710T035257Z
LAST-MODIFIED:20221013T084613Z
UID:4487-1682532000-1682537400@azaniachildren.org
SUMMARY:Life Church Cookeville
DESCRIPTION:With scintillating drumbeats\, engaging dance moves\, and exciting audio-visual effects; Live at Life Church in Cookeville Tennessee\, you will witness inspirational true-life stories of triumph over tragedy. Invite a Friend
URL:https://azaniachildren.org/event/grace-city-church/
LOCATION:Life Church\, 2223 N Washington Ave\, Cookeville\, TN\, 38501
ORGANIZER;CN="Azania Children's Choir":MAILTO:choir@azaniachildren.org
END:VEVENT
BEGIN:VEVENT
DTSTART;TZID=UTC:20230423T100000
DTEND;TZID=UTC:20230423T120000
DTSTAMP:20260425T101547
CREATED:20230303T163110Z
LAST-MODIFIED:20230303T164109Z
UID:5477-1682244000-1682251200@azaniachildren.org
SUMMARY:Cornerstone Christian Church
DESCRIPTION:With scintillating drumbeats\, engaging dance moves\, and exciting audio-visual effects; Live at Cornerstone Christian Church\, you will witness inspirational true-life stories of triumph over tragedy. Invite a Friend
URL:https://azaniachildren.org/event/cornerstone-christian-church/
LOCATION:Conerstone Christian Church\, 1585 NC Hwy 801 North\, Mocksville\, NC\, 27028-7729\, United States
ORGANIZER;CN="Cornerstone Christian Church":MAILTO:cornerstone@c3davie.org
END:VEVENT
BEGIN:VEVENT
DTSTART;TZID=UTC:20230422T170000
DTEND;TZID=UTC:20230422T180000
DTSTAMP:20260425T101547
CREATED:20230325T195420Z
LAST-MODIFIED:20230325T195420Z
UID:5555-1682182800-1682186400@azaniachildren.org
SUMMARY:CORNERSTONE COMMUNITY CONCERT
DESCRIPTION:With scintillating drumbeats\, engaging dance moves\, and exciting audio-visual effects; Live at Cornerstone Christian Church\, you will witness inspirational true-life stories of triumph over tragedy. Invite a Friend.
URL:https://azaniachildren.org/event/cornerstone-community-concert-2/
LOCATION:Conerstone Christian Church\, 1585 NC Hwy 801 North\, Mocksville\, NC\, 27028-7729\, United States
END:VEVENT
BEGIN:VEVENT
DTSTART;TZID=UTC:20230419T183000
DTEND;TZID=UTC:20230419T190000
DTSTAMP:20260425T101547
CREATED:20230325T200225Z
LAST-MODIFIED:20230325T200225Z
UID:5558-1681929000-1681930800@azaniachildren.org
SUMMARY:GREEN MEADOWS BAPTIST CHURCH
DESCRIPTION:With scintillating drumbeats\, engaging dance moves\, and exciting audio-visual effects; Live at Green Meadows Baptist Church\, you will witness inspirational true-life stories of triumph over tragedy. Invite a Friend
URL:https://azaniachildren.org/event/green-meadows-baptist-church/
LOCATION:Green Meadows Baptist Church\, 1646 NC 801 N\, Mocksville\, NC\, 27028\, United States
END:VEVENT
BEGIN:VEVENT
DTSTART;TZID=UTC:20230416T180000
DTEND;TZID=UTC:20230416T190000
DTSTAMP:20260425T101548
CREATED:20230212T165352Z
LAST-MODIFIED:20230212T165352Z
UID:5393-1681668000-1681671600@azaniachildren.org
SUMMARY:First Baptist Church of Columbia
DESCRIPTION:With scintillating drum beats\, engaging dance moves\, and exciting audio-visual effects; Live at First Baptist Church of Columbia\, you will witness inspirational true-life stories of triumph over tragedy. Invite a Friend
URL:https://azaniachildren.org/event/first-baptist-church-of-columbia/
LOCATION:First Baptist Church Columbia\, 1306 Hampton Street\, Columbia\, SC\, 29201\, United States
END:VEVENT
BEGIN:VEVENT
DTSTART;TZID=UTC:20230415T090000
DTEND;TZID=UTC:20230415T130000
DTSTAMP:20260425T101548
CREATED:20230411T140919Z
LAST-MODIFIED:20230411T140919Z
UID:5645-1681549200-1681563600@azaniachildren.org
SUMMARY:SODA CITY
DESCRIPTION:With scintillating drumbeats\, engaging dance moves\, and exciting audio-visual effects; Live at Soda City\, you will witness inspirational true-life stories of triumph over tragedy. Invite a Friend
URL:https://azaniachildren.org/event/soda-city-2/
LOCATION:Soda City Market\, 1300-1600 Main St\, Columbia\, SC\, United States
ORGANIZER;CN="Azania Children's Choir":MAILTO:choir@azaniachildren.org
END:VEVENT
BEGIN:VEVENT
DTSTART;TZID=UTC:20230413T130000
DTEND;TZID=UTC:20230413T143000
DTSTAMP:20260425T101548
CREATED:20230317T192618Z
LAST-MODIFIED:20230317T192618Z
UID:5529-1681390800-1681396200@azaniachildren.org
SUMMARY:SPRINGS VALLEY ROTARY CLUB
DESCRIPTION:With scintillating drumbeats\, engaging dance moves\, and exciting audio-visual effects; Live at springs valley rotary club at Northeast Presbyterian church\, you will witness inspirational true-life stories of triumph over tragedy. Invite a Friend
URL:https://azaniachildren.org/event/springs-valley-rotary-club/
LOCATION:Northeast Presbyterian Church\, 601 Polo Road\, Columbia\, SC\, 29223\, United States
END:VEVENT
BEGIN:VEVENT
DTSTART;TZID=UTC:20230408T170000
DTEND;TZID=UTC:20230408T183000
DTSTAMP:20260425T101548
CREATED:20230310T000608Z
LAST-MODIFIED:20230310T000608Z
UID:5510-1680973200-1680978600@azaniachildren.org
SUMMARY:CRIS CAMERON BIRTHDAY CELEBRATION
DESCRIPTION:The choir will perform to guests as we celebrate Cris Cameroon’s Birthday with scintillating drumbeats\, engaging dance moves\, and exciting audio-visual effects; you will witness inspirational true-life stories of triumph over tragedy. Invite a Friend
URL:https://azaniachildren.org/event/cris-cameron-birthday-celebration/
LOCATION:SC
END:VEVENT
BEGIN:VEVENT
DTSTART;TZID=UTC:20230406T150000
DTEND;TZID=UTC:20230406T160000
DTSTAMP:20260425T101548
CREATED:20230310T000316Z
LAST-MODIFIED:20230310T000316Z
UID:5508-1680793200-1680796800@azaniachildren.org
SUMMARY:LAUREL CREST RETIREMENT COMMUNITY
DESCRIPTION:With scintillating drumbeats\, engaging dance moves\, and exciting audio-visual effects; Live at Laurel Crest Retirement Community Centre\, you will witness inspirational true-life stories of triumph over tragedy. Invite a Friend
URL:https://azaniachildren.org/event/laurel-crest-retirement-community/
LOCATION:Laurel Crest Retirement Community\, 100 Joseph Walker Dr\, West Columbia\, SC\, United States
ORGANIZER;CN="Azania Children's Choir":MAILTO:choir@azaniachildren.org
END:VEVENT
BEGIN:VEVENT
DTSTART;TZID=UTC:20230406T090000
DTEND;TZID=UTC:20230406T100000
DTSTAMP:20260425T101548
CREATED:20230324T151149Z
LAST-MODIFIED:20230324T151149Z
UID:5550-1680771600-1680775200@azaniachildren.org
SUMMARY:LYON ELEMENTARY SCHOOL
DESCRIPTION:With scintillating drumbeats\, engaging dance moves\, and exciting audio-visual effects; Live at Lyon Elementary School\, you will witness inspirational true-life stories of triumph over tragedy.
URL:https://azaniachildren.org/event/lyon-elementary-school-2/
LOCATION:SC
END:VEVENT
BEGIN:VEVENT
DTSTART;TZID=UTC:20230405T083000
DTEND;TZID=UTC:20230405T090000
DTSTAMP:20260425T101548
CREATED:20230310T155211Z
LAST-MODIFIED:20230310T161740Z
UID:5512-1680683400-1680685200@azaniachildren.org
SUMMARY:ARROWS ACADEMY LOWER SCHOOL
DESCRIPTION:With scintillating drumbeats\, engaging dance moves\, and exciting audio-visual effects; Live at Arrows Academy Lower School\, you will witness inspirational true-life stories of triumph over tragedy.
URL:https://azaniachildren.org/event/arrows-academy-lower-school/
LOCATION:Cornerstone Presbyterian Church\, 5637 Bush River Road\, Columbia\, SC\, 29210\, United States
END:VEVENT
BEGIN:VEVENT
DTSTART;TZID=UTC:20230402T120000
DTEND;TZID=UTC:20230402T190000
DTSTAMP:20260425T101548
CREATED:20220710T033552Z
LAST-MODIFIED:20230303T172138Z
UID:4473-1680436800-1680462000@azaniachildren.org
SUMMARY:Columbia International Festival
DESCRIPTION:With scintillating drumbeats\, engaging dance moves\, and exciting audio-visual effects; Live at Columbia International Festival at State Fairgrounds ( Cantey and Goodman Buildings)you will witness inspirational true-life stories of triumph over tragedy. Invite a Friend
URL:https://azaniachildren.org/event/columbia-international-festival/
LOCATION:State FairGrounds\, 1200 Rosewood Dr.\, Columbia\, SC\, 29201\, United States
ORGANIZER;CN="Columbia International Festival":MAILTO:festival@ifmusa.org
END:VEVENT
BEGIN:VEVENT
DTSTART;TZID=UTC:20230401T100000
DTEND;TZID=UTC:20230401T190000
DTSTAMP:20260425T101548
CREATED:20230303T171921Z
LAST-MODIFIED:20230303T171921Z
UID:5488-1680343200-1680375600@azaniachildren.org
SUMMARY:Columbia International Festival
DESCRIPTION:With scintillating drumbeats\, engaging dance moves\, and exciting audio-visual effects; Live at Columbia International Festival at State Fairgrounds ( Cantey and Goodman Buildings)you will witness inspirational true-life stories of triumph over tragedy. Invite a Friend
URL:https://azaniachildren.org/event/columbia-international-festival-3/
LOCATION:State FairGrounds\, 1200 Rosewood Dr.\, Columbia\, SC\, 29201\, United States
ORGANIZER;CN="Columbia International Festival":MAILTO:festival@ifmusa.org
END:VEVENT
BEGIN:VEVENT
DTSTART;TZID=UTC:20230331T090000
DTEND;TZID=UTC:20230331T100000
DTSTAMP:20260425T101548
CREATED:20230324T150858Z
LAST-MODIFIED:20230324T151057Z
UID:5547-1680253200-1680256800@azaniachildren.org
SUMMARY:LYON ELEMENTARY SCHOOL
DESCRIPTION:With scintillating drumbeats\, engaging dance moves\, and exciting audio-visual effects; Live at Lyon Elementary School\, you will witness inspirational true-life stories of triumph over tragedy.
URL:https://azaniachildren.org/event/lyon-elementary-school/
LOCATION:SC
END:VEVENT
BEGIN:VEVENT
DTSTART;TZID=UTC:20230329T190000
DTEND;TZID=UTC:20230329T203000
DTSTAMP:20260425T101548
CREATED:20230318T022958Z
LAST-MODIFIED:20230318T022958Z
UID:5533-1680116400-1680121800@azaniachildren.org
SUMMARY:HEALING SPRINGS BAPTIST CHURCH
DESCRIPTION:With scintillating drumbeats\, engaging dance moves\, and exciting audio-visual effects; Live at Healing springs Baptist Church\, you will witness inspirational true-life stories of triumph over tragedy. Invite a Friend and come experience the beat of Africa.
URL:https://azaniachildren.org/event/healing-springs-baptist-church/
LOCATION:Healing Springs Baptist Church\, 9180 Old hwy 16\, Crumpler\, NC\, 28617\, United States
ORGANIZER;CN="Azania Children's Choir":MAILTO:choir@azaniachildren.org
END:VEVENT
BEGIN:VEVENT
DTSTART;TZID=UTC:20230326T180000
DTEND;TZID=UTC:20230326T190000
DTSTAMP:20260425T101548
CREATED:20220710T033259Z
LAST-MODIFIED:20221013T085844Z
UID:4469-1679853600-1679857200@azaniachildren.org
SUMMARY:Liberty Groove Baptist Church
DESCRIPTION:With scintillating drumbeats\, engaging dance moves\, and exciting audio-visual effects; Live at Liberty Groove Baptist Church\, you will witness inspirational true-life stories of triumph over tragedy. Invite a Friend
URL:https://azaniachildren.org/event/liberty-groove-baptist-church/
LOCATION:Liberty Grove Baptist Church\, 3289 Liberty Grove Church Rd\,\, Fleetwood\, NC\, 28626\, United States
ORGANIZER;CN="Azania Children's Choir":MAILTO:choir@azaniachildren.org
END:VEVENT
BEGIN:VEVENT
DTSTART;TZID=UTC:20230319T103000
DTEND;TZID=UTC:20230319T120000
DTSTAMP:20260425T101548
CREATED:20230310T162057Z
LAST-MODIFIED:20230310T162057Z
UID:5520-1679221800-1679227200@azaniachildren.org
SUMMARY:GRACE CHURCH OF COLUMBIA
DESCRIPTION:With scintillating drumbeats\, engaging dance moves\, and exciting audio-visual effects; Live at Grace Church of Columbia\, you will witness inspirational true-life stories of triumph over tragedy. Invite a Friend and all your family members.
URL:https://azaniachildren.org/event/grace-church-of-columbia/
LOCATION:Grace Church of Columbia\, 2710 Harrison Rd\, Columbia\, SC\, 29204\, United States
END:VEVENT
BEGIN:VEVENT
DTSTART;TZID=UTC:20230318T090000
DTEND;TZID=UTC:20230318T133000
DTSTAMP:20260425T101548
CREATED:20230317T192252Z
LAST-MODIFIED:20230317T192252Z
UID:5527-1679130000-1679146200@azaniachildren.org
SUMMARY:SODAY CITY PERFORMANCE
DESCRIPTION:With scintillating drumbeats\, engaging dance moves\, and exciting audio-visual effects; Live at Soda city Market in Columbia downtown\, you will witness inspirational true-life stories of triumph over tragedy. Invite a Friend and come experience the beat of Africa.
URL:https://azaniachildren.org/event/soday-city-performance/
LOCATION:Soda City Market\, 1300-1600 Main St\, Columbia\, SC\, United States
ORGANIZER;CN="Azania Children's Choir":MAILTO:choir@azaniachildren.org
END:VEVENT
BEGIN:VEVENT
DTSTART;TZID=UTC:20230312T170000
DTEND;TZID=UTC:20230312T183000
DTSTAMP:20260425T101548
CREATED:20230212T172928Z
LAST-MODIFIED:20230212T172928Z
UID:5411-1678640400-1678645800@azaniachildren.org
SUMMARY:Indian Upstate Fellowship
DESCRIPTION:With scintillating drumbeats\, engaging dance moves\, and exciting audio-visual effects; Live at Indian Upstate Fellowship\, you will witness inspirational true-life stories of triumph over tragedy. Invite a Friend
URL:https://azaniachildren.org/event/indian-upstate-fellowship/
LOCATION:Indian Upstate Fellowship\, 1801 Woodruff Rd\, Greenville\, SC\, 29607\, United States
END:VEVENT
BEGIN:VEVENT
DTSTART;TZID=UTC:20230311T093000
DTEND;TZID=UTC:20230311T130000
DTSTAMP:20260425T101548
CREATED:20230310T162810Z
LAST-MODIFIED:20230310T162810Z
UID:5523-1678527000-1678539600@azaniachildren.org
SUMMARY:SODA CITY
DESCRIPTION:With scintillating drumbeats\, engaging dance moves\, and exciting audio-visual effects; Live atSoda City\, you will witness inspirational true-life stories of triumph over tragedy. Invite a Friend
URL:https://azaniachildren.org/event/soda-city/
LOCATION:Soda City Market\, 1300-1600 Main St\, Columbia\, SC\, United States
ORGANIZER;CN="Azania Children's Choir":MAILTO:choir@azaniachildren.org
END:VEVENT
BEGIN:VEVENT
DTSTART;TZID=UTC:20230308T120000
DTEND;TZID=UTC:20230308T140000
DTSTAMP:20260425T101548
CREATED:20230303T154207Z
LAST-MODIFIED:20230303T154207Z
UID:5437-1678276800-1678284000@azaniachildren.org
SUMMARY:Le Bambou Restaurant Africain
DESCRIPTION:Come have lunch with Azania Choir while enjoying their scintillating drumbeats\, engaging dance moves\, and exciting audio-visual effects; Live at Le Bambou Restaurant\, you will witness inspirational true-life stories of triumph over tragedy. Come enjoy a great Meal with a great music from Azania Children’s Choir.
URL:https://azaniachildren.org/event/le-bambou-restaurant-africain/
LOCATION:Le Bambou Restaurant Africain\, 10203 Two Notch Rd\,\, Columbia
END:VEVENT
BEGIN:VEVENT
DTSTART;TZID=UTC:20230305T130000
DTEND;TZID=UTC:20230305T143000
DTSTAMP:20260425T101548
CREATED:20230212T172408Z
LAST-MODIFIED:20230212T172408Z
UID:5407-1678021200-1678026600@azaniachildren.org
SUMMARY:First Myanmar Baptist Church
DESCRIPTION:With scintillating drumbeats\, engaging dance moves\, and exciting audio-visual effects; Live at First Myanmar Baptist Church\, you will witness inspirational true-life stories of triumph over tragedy. Invite a Friend
URL:https://azaniachildren.org/event/first-myanmar-baptist-church/
LOCATION:First Myanmar Baptist Church\, 1834 Morninglo Ln.\, Columbia\, SC\, 29223\, United States
END:VEVENT
BEGIN:VEVENT
DTSTART;TZID=UTC:20230226T123000
DTEND;TZID=UTC:20230226T140000
DTSTAMP:20260425T101548
CREATED:20230212T171536Z
LAST-MODIFIED:20230212T171536Z
UID:5395-1677414600-1677420000@azaniachildren.org
SUMMARY:First Haitian Baptist Church
DESCRIPTION:With scintillating drumbeats\, engaging dance moves\, and exciting audio-visual effects; Live at First Haitian  Baptist Church\, you will witness inspirational true-life stories of triumph over tragedy. Invite a Friend
URL:https://azaniachildren.org/event/first-haitian-baptist-church/
LOCATION:First Haitain Baptist Church\, 230 Bush River Rd.\, Columbia\, SC\, 29210\, United States
END:VEVENT
BEGIN:VEVENT
DTSTART;TZID=UTC:20230219T100000
DTEND;TZID=UTC:20230219T120000
DTSTAMP:20260425T101548
CREATED:20230212T171830Z
LAST-MODIFIED:20230212T171830Z
UID:5399-1676800800-1676808000@azaniachildren.org
SUMMARY:Cambodian Baptist Church
DESCRIPTION:With scintillating drumbeats\, engaging dance moves\, and exciting audio-visual effects; Live at Cambodian Baptist Church\, you will witness inspirational true-life stories of triumph over tragedy. Invite a Friend
URL:https://azaniachildren.org/event/cambodian-baptist-church/
LOCATION:Cambodian Baptist Church\, 800 Bumblebee Ln\, Wellford
END:VEVENT
BEGIN:VEVENT
DTSTART;TZID=UTC:20230214T190000
DTEND;TZID=UTC:20230214T200000
DTSTAMP:20260425T101548
CREATED:20220302T144559Z
LAST-MODIFIED:20230212T165025Z
UID:3929-1676401200-1676404800@azaniachildren.org
SUMMARY:Arrival in South Carolina
DESCRIPTION:The Azania Children’s choir will be arriving all the way from Kampala\, Uganda to the First Baptist Church of Columbia in South Carolina as first venue and place of residence.
URL:https://azaniachildren.org/event/love-works-2023-tour/
LOCATION:Columbia South Carolina
END:VEVENT
END:VCALENDAR