BEGIN:VCALENDAR
VERSION:2.0
PRODID:-//Azania Children - ECPv6.8.3//NONSGML v1.0//EN
CALSCALE:GREGORIAN
METHOD:PUBLISH
X-WR-CALNAME:Azania Children
X-ORIGINAL-URL:https://azaniachildren.org
X-WR-CALDESC:Events for Azania Children
REFRESH-INTERVAL;VALUE=DURATION:PT1H
X-Robots-Tag:noindex
X-PUBLISHED-TTL:PT1H
BEGIN:VTIMEZONE
TZID:UTC
BEGIN:STANDARD
TZOFFSETFROM:+0000
TZOFFSETTO:+0000
TZNAME:UTC
DTSTART:20230101T000000
END:STANDARD
END:VTIMEZONE
BEGIN:VEVENT
DTSTART;TZID=UTC:20230716T100000
DTEND;TZID=UTC:20230716T110000
DTSTAMP:20260424T131905
CREATED:20230703T195124Z
LAST-MODIFIED:20230703T195124Z
UID:5804-1689501600-1689505200@azaniachildren.org
SUMMARY:North Point Community Church
DESCRIPTION:With scintillating drumbeats\, engaging dance moves\, and exciting audio-visual effects; Live at North point Community Church\, you will witness inspirational true-life stories of triumph over tragedy. Invite a Friend.
URL:https://azaniachildren.org/event/north-point-community-church/
LOCATION:Northpoint Community Church\, 132 Beckett Ln\, Columbia\, SC\, 29223\, United States
END:VEVENT
BEGIN:VEVENT
DTSTART;TZID=UTC:20230719T190000
DTEND;TZID=UTC:20230719T200000
DTSTAMP:20260424T131905
CREATED:20230324T150254Z
LAST-MODIFIED:20230324T150254Z
UID:5541-1689793200-1689796800@azaniachildren.org
SUMMARY:CHRISTIAN LIFE CHURCH
DESCRIPTION:With scintillating drumbeats\, engaging dance moves\, and exciting audio-visual effects; Live at Christian Life Church Columbia \, you will witness inspirational true-life stories of triumph over tragedy from Azania Children’s Choir from Uganda East Africa. Invite a Friend
URL:https://azaniachildren.org/event/christian-life-church/
LOCATION:Christian Life Church\, 2700 Bush River Rd\, Columbia\, SC\, 29210\, United States
END:VEVENT
BEGIN:VEVENT
DTSTART;TZID=UTC:20230720T110000
DTEND;TZID=UTC:20230720T120000
DTSTAMP:20260424T131905
CREATED:20230324T150553Z
LAST-MODIFIED:20230324T150553Z
UID:5545-1689850800-1689854400@azaniachildren.org
SUMMARY:CHRISTIAN LIFE CHURCH
DESCRIPTION:A Concert for the senior Adults with scintillating drumbeats\, engaging dance moves\, and exciting audio-visual effects; Live at Christian Life Church\, you will witness inspirational true-life stories of triumph over tragedy from Azania Children’s choir from Uganda . Invite a senior Adult.
URL:https://azaniachildren.org/event/christian-life-church-2/
LOCATION:Christian Life Church\, 2700 Bush River Rd\, Columbia\, SC\, 29210\, United States
END:VEVENT
BEGIN:VEVENT
DTSTART;TZID=UTC:20230720T181500
DTEND;TZID=UTC:20230720T200000
DTSTAMP:20260424T131905
CREATED:20230703T194441Z
LAST-MODIFIED:20230703T194441Z
UID:5797-1689876900-1689883200@azaniachildren.org
SUMMARY:CROSSROADS WORLD OUTREACH CENTER
DESCRIPTION:With scintillating drumbeats\, engaging dance moves\, and exciting audio-visual effects; Live at Crossroads World Outreach center\, you will witness inspirational true-life stories of triumph over tragedy. Invite a Friend.
URL:https://azaniachildren.org/event/crossroads-world-outreach-center/
LOCATION:Crossroad World Outreach Center\, 2606 Emanuel Church Rd\, Columbia\, SC\, 29170\, United States
END:VEVENT
BEGIN:VEVENT
DTSTART;TZID=UTC:20230723T110000
DTEND;TZID=UTC:20230723T120000
DTSTAMP:20260424T131905
CREATED:20230503T202809Z
LAST-MODIFIED:20230621T140240Z
UID:5702-1690110000-1690113600@azaniachildren.org
SUMMARY:OLD LEXINGTON BAPTIST CHURCH
DESCRIPTION:With scintillating drumbeats\, engaging dance moves\, and exciting audio-visual effects; Live at Old Lexington Baptist Church\, you will witness inspirational true-life stories of triumph over tragedy. Invite a Friend
URL:https://azaniachildren.org/event/old-lexington-baptist-church/
LOCATION:Old Lexington Baptist church\, 800 Old Lexington Rd\, Leesville\, SC\, 29070\, United States
END:VEVENT
BEGIN:VEVENT
DTSTART;TZID=UTC:20230723T180000
DTEND;TZID=UTC:20230723T190000
DTSTAMP:20260424T131905
CREATED:20230428T170240Z
LAST-MODIFIED:20230428T170240Z
UID:5697-1690135200-1690138800@azaniachildren.org
SUMMARY:RIVERLAND HILLS BAPTIST CHURCH
DESCRIPTION:With scintillating drumbeats\, engaging dance moves\, and exciting audio-visual effects; Live at Riverland Hills Baptist Church\, you will witness inspirational true-life stories of triumph over tragedy. Invite a Friend.
URL:https://azaniachildren.org/event/riverland-hills-baptist-church/
LOCATION:RiverLand Hills Baptist Church\, 201 Lake Murray Blvd\, Irmo\, SC\, 29063\, United States
ORGANIZER;CN="Azania Children's Choir":MAILTO:choir@azaniachildren.org
END:VEVENT
BEGIN:VEVENT
DTSTART;TZID=UTC:20230724T090000
DTEND;TZID=UTC:20230728T170000
DTSTAMP:20260424T131905
CREATED:20230419T163941Z
LAST-MODIFIED:20230419T163941Z
UID:5684-1690189200-1690563600@azaniachildren.org
SUMMARY:WORSHIP ARTS CAMP
DESCRIPTION:
URL:https://azaniachildren.org/event/worship-arts-camp/
LOCATION:First Baptist Church Columbia\, 1306 Hampton Street\, Columbia\, SC\, 29201\, United States
END:VEVENT
BEGIN:VEVENT
DTSTART;TZID=UTC:20230730T100000
DTEND;TZID=UTC:20230730T230000
DTSTAMP:20260424T131905
CREATED:20230419T163706Z
LAST-MODIFIED:20230419T163706Z
UID:5680-1690711200-1690758000@azaniachildren.org
SUMMARY:NORTHWOOD CHURCH
DESCRIPTION:With scintillating drumbeats\, engaging dance moves\, and exciting audio-visual effects; Live at Northwood Church\, you will witness inspirational true-life stories of triumph over tragedy. Invite a Friend and come experience the beat of Africa.
URL:https://azaniachildren.org/event/northwood-church/
LOCATION:Northwood Church\, 888 Ansel School Rd\, Greer\, SC\, 29651\, United States
END:VEVENT
BEGIN:VEVENT
DTSTART;TZID=UTC:20230730T180000
DTEND;TZID=UTC:20230730T180000
DTSTAMP:20260424T131905
CREATED:20230411T140650Z
LAST-MODIFIED:20230411T140650Z
UID:5641-1690740000-1690740000@azaniachildren.org
SUMMARY:WASHINGTON BAPTIST CHURCH
DESCRIPTION:With scintillating drumbeats\, engaging dance moves\, and exciting audio-visual effects; Live at Washington Baptist Church\, you will witness inspirational true-life stories of triumph over tragedy. Invite a Friend
URL:https://azaniachildren.org/event/washington-baptist-church/
LOCATION:Washington Baptist Church\, 3500 SC-14\, Greer\, SC\, 29651\, United States
END:VEVENT
BEGIN:VEVENT
DTSTART;TZID=UTC:20230802T190000
DTEND;TZID=UTC:20230802T210000
DTSTAMP:20260424T131905
CREATED:20230725T122229Z
LAST-MODIFIED:20230725T122229Z
UID:6279-1691002800-1691010000@azaniachildren.org
SUMMARY:WORD OF GOD CHURCH MINISTRIES
DESCRIPTION:With scintillating drumbeats\, engaging dance moves\, and exciting audio-visual effects; Live at Word of God Church\, you will witness inspirational true-life stories of triumph over tragedy. Invite a Friend.
URL:https://azaniachildren.org/event/word-of-god-church-ministries/
LOCATION:Word of God Church\, 119 Diamond Lane\, Columbia\, SC\, 29210\, United States
END:VEVENT
BEGIN:VEVENT
DTSTART;TZID=UTC:20230810T080000
DTEND;TZID=UTC:20230810T170000
DTSTAMP:20260424T131905
CREATED:20230303T172824Z
LAST-MODIFIED:20230303T172824Z
UID:5495-1691654400-1691686800@azaniachildren.org
SUMMARY:Departure Home to Uganda
DESCRIPTION:The Azania Choir will depart to headlock home in Uganda. If you would love to help drive to the airport\, packing bags\, you’re welcome to join the team. Please contact Ryan at 803-467-0122
URL:https://azaniachildren.org/event/departure-home-to-uganda/
LOCATION:Columbia Metropolitan Airport\, 3250 Airport Blvd\,\, West Columbia\, SC\, 29170\, United States
ORGANIZER;CN="Azania Children's Choir":MAILTO:choir@azaniachildren.org
END:VEVENT
END:VCALENDAR