BEGIN:VCALENDAR
VERSION:2.0
PRODID:-//Azania Children - ECPv6.8.3//NONSGML v1.0//EN
CALSCALE:GREGORIAN
METHOD:PUBLISH
X-WR-CALNAME:Azania Children
X-ORIGINAL-URL:https://azaniachildren.org
X-WR-CALDESC:Events for Azania Children
REFRESH-INTERVAL;VALUE=DURATION:PT1H
X-Robots-Tag:noindex
X-PUBLISHED-TTL:PT1H
BEGIN:VTIMEZONE
TZID:UTC
BEGIN:STANDARD
TZOFFSETFROM:+0000
TZOFFSETTO:+0000
TZNAME:UTC
DTSTART:20230101T000000
END:STANDARD
END:VTIMEZONE
BEGIN:VEVENT
DTSTART;TZID=UTC:20230401T100000
DTEND;TZID=UTC:20230401T190000
DTSTAMP:20260425T152040
CREATED:20230303T171921Z
LAST-MODIFIED:20230303T171921Z
UID:5488-1680343200-1680375600@azaniachildren.org
SUMMARY:Columbia International Festival
DESCRIPTION:With scintillating drumbeats\, engaging dance moves\, and exciting audio-visual effects; Live at Columbia International Festival at State Fairgrounds ( Cantey and Goodman Buildings)you will witness inspirational true-life stories of triumph over tragedy. Invite a Friend
URL:https://azaniachildren.org/event/columbia-international-festival-3/
LOCATION:State FairGrounds\, 1200 Rosewood Dr.\, Columbia\, SC\, 29201\, United States
ORGANIZER;CN="Columbia International Festival":MAILTO:festival@ifmusa.org
END:VEVENT
BEGIN:VEVENT
DTSTART;TZID=UTC:20230402T120000
DTEND;TZID=UTC:20230402T190000
DTSTAMP:20260425T152040
CREATED:20220710T033552Z
LAST-MODIFIED:20230303T172138Z
UID:4473-1680436800-1680462000@azaniachildren.org
SUMMARY:Columbia International Festival
DESCRIPTION:With scintillating drumbeats\, engaging dance moves\, and exciting audio-visual effects; Live at Columbia International Festival at State Fairgrounds ( Cantey and Goodman Buildings)you will witness inspirational true-life stories of triumph over tragedy. Invite a Friend
URL:https://azaniachildren.org/event/columbia-international-festival/
LOCATION:State FairGrounds\, 1200 Rosewood Dr.\, Columbia\, SC\, 29201\, United States
ORGANIZER;CN="Columbia International Festival":MAILTO:festival@ifmusa.org
END:VEVENT
BEGIN:VEVENT
DTSTART;TZID=UTC:20230405T083000
DTEND;TZID=UTC:20230405T090000
DTSTAMP:20260425T152040
CREATED:20230310T155211Z
LAST-MODIFIED:20230310T161740Z
UID:5512-1680683400-1680685200@azaniachildren.org
SUMMARY:ARROWS ACADEMY LOWER SCHOOL
DESCRIPTION:With scintillating drumbeats\, engaging dance moves\, and exciting audio-visual effects; Live at Arrows Academy Lower School\, you will witness inspirational true-life stories of triumph over tragedy.
URL:https://azaniachildren.org/event/arrows-academy-lower-school/
LOCATION:Cornerstone Presbyterian Church\, 5637 Bush River Road\, Columbia\, SC\, 29210\, United States
END:VEVENT
BEGIN:VEVENT
DTSTART;TZID=UTC:20230406T090000
DTEND;TZID=UTC:20230406T100000
DTSTAMP:20260425T152040
CREATED:20230324T151149Z
LAST-MODIFIED:20230324T151149Z
UID:5550-1680771600-1680775200@azaniachildren.org
SUMMARY:LYON ELEMENTARY SCHOOL
DESCRIPTION:With scintillating drumbeats\, engaging dance moves\, and exciting audio-visual effects; Live at Lyon Elementary School\, you will witness inspirational true-life stories of triumph over tragedy.
URL:https://azaniachildren.org/event/lyon-elementary-school-2/
LOCATION:SC
END:VEVENT
BEGIN:VEVENT
DTSTART;TZID=UTC:20230406T150000
DTEND;TZID=UTC:20230406T160000
DTSTAMP:20260425T152040
CREATED:20230310T000316Z
LAST-MODIFIED:20230310T000316Z
UID:5508-1680793200-1680796800@azaniachildren.org
SUMMARY:LAUREL CREST RETIREMENT COMMUNITY
DESCRIPTION:With scintillating drumbeats\, engaging dance moves\, and exciting audio-visual effects; Live at Laurel Crest Retirement Community Centre\, you will witness inspirational true-life stories of triumph over tragedy. Invite a Friend
URL:https://azaniachildren.org/event/laurel-crest-retirement-community/
LOCATION:Laurel Crest Retirement Community\, 100 Joseph Walker Dr\, West Columbia\, SC\, United States
ORGANIZER;CN="Azania Children's Choir":MAILTO:choir@azaniachildren.org
END:VEVENT
BEGIN:VEVENT
DTSTART;TZID=UTC:20230408T170000
DTEND;TZID=UTC:20230408T183000
DTSTAMP:20260425T152040
CREATED:20230310T000608Z
LAST-MODIFIED:20230310T000608Z
UID:5510-1680973200-1680978600@azaniachildren.org
SUMMARY:CRIS CAMERON BIRTHDAY CELEBRATION
DESCRIPTION:The choir will perform to guests as we celebrate Cris Cameroon’s Birthday with scintillating drumbeats\, engaging dance moves\, and exciting audio-visual effects; you will witness inspirational true-life stories of triumph over tragedy. Invite a Friend
URL:https://azaniachildren.org/event/cris-cameron-birthday-celebration/
LOCATION:SC
END:VEVENT
BEGIN:VEVENT
DTSTART;TZID=UTC:20230413T130000
DTEND;TZID=UTC:20230413T143000
DTSTAMP:20260425T152040
CREATED:20230317T192618Z
LAST-MODIFIED:20230317T192618Z
UID:5529-1681390800-1681396200@azaniachildren.org
SUMMARY:SPRINGS VALLEY ROTARY CLUB
DESCRIPTION:With scintillating drumbeats\, engaging dance moves\, and exciting audio-visual effects; Live at springs valley rotary club at Northeast Presbyterian church\, you will witness inspirational true-life stories of triumph over tragedy. Invite a Friend
URL:https://azaniachildren.org/event/springs-valley-rotary-club/
LOCATION:Northeast Presbyterian Church\, 601 Polo Road\, Columbia\, SC\, 29223\, United States
END:VEVENT
BEGIN:VEVENT
DTSTART;TZID=UTC:20230415T090000
DTEND;TZID=UTC:20230415T130000
DTSTAMP:20260425T152040
CREATED:20230411T140919Z
LAST-MODIFIED:20230411T140919Z
UID:5645-1681549200-1681563600@azaniachildren.org
SUMMARY:SODA CITY
DESCRIPTION:With scintillating drumbeats\, engaging dance moves\, and exciting audio-visual effects; Live at Soda City\, you will witness inspirational true-life stories of triumph over tragedy. Invite a Friend
URL:https://azaniachildren.org/event/soda-city-2/
LOCATION:Soda City Market\, 1300-1600 Main St\, Columbia\, SC\, United States
ORGANIZER;CN="Azania Children's Choir":MAILTO:choir@azaniachildren.org
END:VEVENT
BEGIN:VEVENT
DTSTART;TZID=UTC:20230416T180000
DTEND;TZID=UTC:20230416T190000
DTSTAMP:20260425T152040
CREATED:20230212T165352Z
LAST-MODIFIED:20230212T165352Z
UID:5393-1681668000-1681671600@azaniachildren.org
SUMMARY:First Baptist Church of Columbia
DESCRIPTION:With scintillating drum beats\, engaging dance moves\, and exciting audio-visual effects; Live at First Baptist Church of Columbia\, you will witness inspirational true-life stories of triumph over tragedy. Invite a Friend
URL:https://azaniachildren.org/event/first-baptist-church-of-columbia/
LOCATION:First Baptist Church Columbia\, 1306 Hampton Street\, Columbia\, SC\, 29201\, United States
END:VEVENT
BEGIN:VEVENT
DTSTART;TZID=UTC:20230419T183000
DTEND;TZID=UTC:20230419T190000
DTSTAMP:20260425T152040
CREATED:20230325T200225Z
LAST-MODIFIED:20230325T200225Z
UID:5558-1681929000-1681930800@azaniachildren.org
SUMMARY:GREEN MEADOWS BAPTIST CHURCH
DESCRIPTION:With scintillating drumbeats\, engaging dance moves\, and exciting audio-visual effects; Live at Green Meadows Baptist Church\, you will witness inspirational true-life stories of triumph over tragedy. Invite a Friend
URL:https://azaniachildren.org/event/green-meadows-baptist-church/
LOCATION:Green Meadows Baptist Church\, 1646 NC 801 N\, Mocksville\, NC\, 27028\, United States
END:VEVENT
BEGIN:VEVENT
DTSTART;TZID=UTC:20230422T170000
DTEND;TZID=UTC:20230422T180000
DTSTAMP:20260425T152040
CREATED:20230325T195420Z
LAST-MODIFIED:20230325T195420Z
UID:5555-1682182800-1682186400@azaniachildren.org
SUMMARY:CORNERSTONE COMMUNITY CONCERT
DESCRIPTION:With scintillating drumbeats\, engaging dance moves\, and exciting audio-visual effects; Live at Cornerstone Christian Church\, you will witness inspirational true-life stories of triumph over tragedy. Invite a Friend.
URL:https://azaniachildren.org/event/cornerstone-community-concert-2/
LOCATION:Conerstone Christian Church\, 1585 NC Hwy 801 North\, Mocksville\, NC\, 27028-7729\, United States
END:VEVENT
BEGIN:VEVENT
DTSTART;TZID=UTC:20230423T100000
DTEND;TZID=UTC:20230423T120000
DTSTAMP:20260425T152040
CREATED:20230303T163110Z
LAST-MODIFIED:20230303T164109Z
UID:5477-1682244000-1682251200@azaniachildren.org
SUMMARY:Cornerstone Christian Church
DESCRIPTION:With scintillating drumbeats\, engaging dance moves\, and exciting audio-visual effects; Live at Cornerstone Christian Church\, you will witness inspirational true-life stories of triumph over tragedy. Invite a Friend
URL:https://azaniachildren.org/event/cornerstone-christian-church/
LOCATION:Conerstone Christian Church\, 1585 NC Hwy 801 North\, Mocksville\, NC\, 27028-7729\, United States
ORGANIZER;CN="Cornerstone Christian Church":MAILTO:cornerstone@c3davie.org
END:VEVENT
BEGIN:VEVENT
DTSTART;TZID=UTC:20230426T180000
DTEND;TZID=UTC:20230426T193000
DTSTAMP:20260425T152040
CREATED:20220710T035257Z
LAST-MODIFIED:20221013T084613Z
UID:4487-1682532000-1682537400@azaniachildren.org
SUMMARY:Life Church Cookeville
DESCRIPTION:With scintillating drumbeats\, engaging dance moves\, and exciting audio-visual effects; Live at Life Church in Cookeville Tennessee\, you will witness inspirational true-life stories of triumph over tragedy. Invite a Friend
URL:https://azaniachildren.org/event/grace-city-church/
LOCATION:Life Church\, 2223 N Washington Ave\, Cookeville\, TN\, 38501
ORGANIZER;CN="Azania Children's Choir":MAILTO:choir@azaniachildren.org
END:VEVENT
BEGIN:VEVENT
DTSTART;TZID=UTC:20230430T180000
DTEND;TZID=UTC:20230430T190000
DTSTAMP:20260425T152040
CREATED:20230325T202001Z
LAST-MODIFIED:20230325T202001Z
UID:5562-1682877600-1682881200@azaniachildren.org
SUMMARY:KAINOS CHURCH
DESCRIPTION:With scintillating drumbeats\, engaging dance moves\, and exciting audio-visual effects; Live at Kainos  Church\, you will witness inspirational true-life stories of triumph over tragedy. Invite a Friend
URL:https://azaniachildren.org/event/kainos-church/
LOCATION:Kainos Church\, Peachtree Learning Center 402 N Walnut Ave\, Cookeville\, TN\, 38501\, United States
END:VEVENT
END:VCALENDAR